BEGIN:VCALENDAR
VERSION:2.0
PRODID:-//hacksw/handcal//NONSGML v1.0//EN
BEGIN:VEVENT
SUMMARY:Stage de tennis adultes Platja d’Aro
UID:6314f274-e03f-4928-9056-a0159c5ab447
DTSTART:20260604T070000Z
DTEND:20260608T170000Z
LOCATION:Localisation   
CATEGORIES:Sportif
STATUS:
DESCRIPTION:<p>Sejour a Platja d’Aro – Costa Brava en Espagne,
 du 4 au 8 juin 2026. Stage de tennis pour adultes pendant une semaine
 durant lequel les participants pourront etre coache et progresser.
 Toute les informations <a href="https://tennis-h24.fr/stages/"
 target="_blank" rel="noreferrer noopener">sont a retrouver
 ici</a>.</p>
URL;VALUE=URI:https://tennis-h24.sportsregions.fr/evenements/2026/06/04/stage-de-tennis-adultes-platja-daro-2430338
END:VEVENT
END:VCALENDAR
